BEGIN:VCALENDAR
VERSION:2.0
PRODID:-//Scottish Motorcycle Club - ECPv6.15.20//NONSGML v1.0//EN
CALSCALE:GREGORIAN
METHOD:PUBLISH
X-ORIGINAL-URL:http://www.scottishmotorcycleclub.org.uk
X-WR-CALDESC:Events for Scottish Motorcycle Club
REFRESH-INTERVAL;VALUE=DURATION:PT1H
X-Robots-Tag:noindex
X-PUBLISHED-TTL:PT1H
BEGIN:VTIMEZONE
TZID:Europe/London
BEGIN:DAYLIGHT
TZOFFSETFROM:+0000
TZOFFSETTO:+0100
TZNAME:BST
DTSTART:20250330T010000
END:DAYLIGHT
BEGIN:STANDARD
TZOFFSETFROM:+0100
TZOFFSETTO:+0000
TZNAME:GMT
DTSTART:20251026T010000
END:STANDARD
BEGIN:DAYLIGHT
TZOFFSETFROM:+0000
TZOFFSETTO:+0100
TZNAME:BST
DTSTART:20260329T010000
END:DAYLIGHT
BEGIN:STANDARD
TZOFFSETFROM:+0100
TZOFFSETTO:+0000
TZNAME:GMT
DTSTART:20261025T010000
END:STANDARD
BEGIN:DAYLIGHT
TZOFFSETFROM:+0000
TZOFFSETTO:+0100
TZNAME:BST
DTSTART:20270328T010000
END:DAYLIGHT
BEGIN:STANDARD
TZOFFSETFROM:+0100
TZOFFSETTO:+0000
TZNAME:GMT
DTSTART:20271031T010000
END:STANDARD
END:VTIMEZONE
BEGIN:VEVENT
DTSTART;TZID=Europe/London:20260616T103000
DTEND;TZID=Europe/London:20260616T140000
DTSTAMP:20260424T193324
CREATED:20260208T153244Z
LAST-MODIFIED:20260208T153244Z
UID:13285-1781605800-1781618400@www.scottishmotorcycleclub.org.uk
SUMMARY:Morning Coffee Run – Tuesday 16.06.26
DESCRIPTION:Continuing the series of morning coffee runs for this season. Meeting at Dobbies in Stirling at 10:30\, with no fixed agenda. This is a social focused meeting\, for a coffee and a chat then off for a run which will be agreed on the day with everyone attending\, numbers and weather dependent. If the weather is really bad\, feel free to bring the car for coffee and a chat. \nPoint of Contact on the day – TBC
URL:http://www.scottishmotorcycleclub.org.uk/event/morning-coffee-run-tuesday-16-06-26/
LOCATION:Dobbies Garden Centre Stirling\, Dip Road\, Stirling\, FK9 4UF
CATEGORIES:Social Events
ATTACH;FMTTYPE=image/jpeg:http://www.scottishmotorcycleclub.org.uk/wp-content/uploads/2024/03/bike-coffee-shop.jpeg
END:VEVENT
BEGIN:VEVENT
DTSTART;VALUE=DATE:20260620
DTEND;VALUE=DATE:20260621
DTSTAMP:20260424T193324
CREATED:20260208T152412Z
LAST-MODIFIED:20260208T152412Z
UID:13273-1781913600-1781999999@www.scottishmotorcycleclub.org.uk
SUMMARY:Monthly Club Run – TBC - Saturday 20.06.26
DESCRIPTION:A monthly place holder for a run. \nThis event will be updated when a route and organiser have been confirmed. \nIf you wish to host or have an idea for a run on any of the monthly dates\, please email runs@scottishmotorcycleclub.org.uk \nThis event will be cancelled within 5 days of its run date if there is no confirmed itinerary.
URL:http://www.scottishmotorcycleclub.org.uk/event/monthly-club-run-tbc-saturday-20-06-26/
CATEGORIES:Day Runs
ATTACH;FMTTYPE=image/jpeg:http://www.scottishmotorcycleclub.org.uk/wp-content/uploads/2024/03/Logo.jpg
END:VEVENT
BEGIN:VEVENT
DTSTART;VALUE=DATE:20260719
DTEND;VALUE=DATE:20260720
DTSTAMP:20260424T193324
CREATED:20260208T152458Z
LAST-MODIFIED:20260208T152458Z
UID:13275-1784419200-1784505599@www.scottishmotorcycleclub.org.uk
SUMMARY:Monthly Club Run – TBC - Sunday 19.07.26
DESCRIPTION:A monthly place holder for a run. \nThis event will be updated when a route and organiser have been confirmed. \nIf you wish to host or have an idea for a run on any of the monthly dates\, please email runs@scottishmotorcycleclub.org.uk \nThis event will be cancelled within 5 days of its run date if there is no confirmed itinerary.
URL:http://www.scottishmotorcycleclub.org.uk/event/monthly-club-run-tbc-sunday-19-07-26/
CATEGORIES:Day Runs
ATTACH;FMTTYPE=image/jpeg:http://www.scottishmotorcycleclub.org.uk/wp-content/uploads/2024/03/Logo.jpg
END:VEVENT
BEGIN:VEVENT
DTSTART;TZID=Europe/London:20260721T103000
DTEND;TZID=Europe/London:20260721T140000
DTSTAMP:20260424T193324
CREATED:20260208T153330Z
LAST-MODIFIED:20260208T153330Z
UID:13287-1784629800-1784642400@www.scottishmotorcycleclub.org.uk
SUMMARY:Morning Coffee Run – Tuesday 21.07.26
DESCRIPTION:Continuing the series of morning coffee runs for this season. Meeting at Dobbies in Stirling at 10:30\, with no fixed agenda. This is a social focused meeting\, for a coffee and a chat then off for a run which will be agreed on the day with everyone attending\, numbers and weather dependent. If the weather is really bad\, feel free to bring the car for coffee and a chat. \nPoint of Contact on the day – TBC
URL:http://www.scottishmotorcycleclub.org.uk/event/morning-coffee-run-tuesday-21-07-26/
LOCATION:Dobbies Garden Centre Stirling\, Dip Road\, Stirling\, FK9 4UF
CATEGORIES:Social Events
ATTACH;FMTTYPE=image/jpeg:http://www.scottishmotorcycleclub.org.uk/wp-content/uploads/2024/03/bike-coffee-shop.jpeg
END:VEVENT
BEGIN:VEVENT
DTSTART;VALUE=DATE:20260815
DTEND;VALUE=DATE:20260816
DTSTAMP:20260424T193324
CREATED:20260208T152548Z
LAST-MODIFIED:20260208T152548Z
UID:13277-1786752000-1786838399@www.scottishmotorcycleclub.org.uk
SUMMARY:Monthly Club Run – TBC - Saturday 15.08.26
DESCRIPTION:A monthly place holder for a run. \nThis event will be updated when a route and organiser have been confirmed. \nIf you wish to host or have an idea for a run on any of the monthly dates\, please email runs@scottishmotorcycleclub.org.uk \nThis event will be cancelled within 5 days of its run date if there is no confirmed itinerary.
URL:http://www.scottishmotorcycleclub.org.uk/event/monthly-club-run-tbc-saturday-15-08-26/
CATEGORIES:Day Runs
ATTACH;FMTTYPE=image/jpeg:http://www.scottishmotorcycleclub.org.uk/wp-content/uploads/2024/03/Logo.jpg
END:VEVENT
BEGIN:VEVENT
DTSTART;TZID=Europe/London:20260825T103000
DTEND;TZID=Europe/London:20260825T140000
DTSTAMP:20260424T193324
CREATED:20260208T153435Z
LAST-MODIFIED:20260208T153435Z
UID:13289-1787653800-1787666400@www.scottishmotorcycleclub.org.uk
SUMMARY:Morning Coffee Run – Tuesday 25.08.26
DESCRIPTION:Continuing the series of morning coffee runs for this season. Meeting at Dobbies in Stirling at 10:30\, with no fixed agenda. This is a social focused meeting\, for a coffee and a chat then off for a run which will be agreed on the day with everyone attending\, numbers and weather dependent. If the weather is really bad\, feel free to bring the car for coffee and a chat. \nPoint of Contact on the day – TBC
URL:http://www.scottishmotorcycleclub.org.uk/event/morning-coffee-run-tuesday-25-08-26/
LOCATION:Dobbies Garden Centre Stirling\, Dip Road\, Stirling\, FK9 4UF
CATEGORIES:Social Events
ATTACH;FMTTYPE=image/jpeg:http://www.scottishmotorcycleclub.org.uk/wp-content/uploads/2024/03/bike-coffee-shop.jpeg
END:VEVENT
BEGIN:VEVENT
DTSTART;VALUE=DATE:20260920
DTEND;VALUE=DATE:20260921
DTSTAMP:20260424T193324
CREATED:20260208T152642Z
LAST-MODIFIED:20260208T152642Z
UID:13279-1789862400-1789948799@www.scottishmotorcycleclub.org.uk
SUMMARY:Monthly Club Run – TBC - Sunday 20.09.26
DESCRIPTION:A monthly place holder for a run. \nThis event will be updated when a route and organiser have been confirmed. \nIf you wish to host or have an idea for a run on any of the monthly dates\, please email runs@scottishmotorcycleclub.org.uk \nThis event will be cancelled within 5 days of its run date if there is no confirmed itinerary.
URL:http://www.scottishmotorcycleclub.org.uk/event/monthly-club-run-tbc-sunday-20-09-26/
CATEGORIES:Day Runs
ATTACH;FMTTYPE=image/jpeg:http://www.scottishmotorcycleclub.org.uk/wp-content/uploads/2024/03/Logo.jpg
END:VEVENT
BEGIN:VEVENT
DTSTART;TZID=Europe/London:20260929T103000
DTEND;TZID=Europe/London:20260929T140000
DTSTAMP:20260424T193324
CREATED:20260208T153520Z
LAST-MODIFIED:20260208T153520Z
UID:13291-1790677800-1790690400@www.scottishmotorcycleclub.org.uk
SUMMARY:Morning Coffee Run – Tuesday 29.09.26
DESCRIPTION:Continuing the series of morning coffee runs for this season. Meeting at Dobbies in Stirling at 10:30\, with no fixed agenda. This is a social focused meeting\, for a coffee and a chat then off for a run which will be agreed on the day with everyone attending\, numbers and weather dependent. If the weather is really bad\, feel free to bring the car for coffee and a chat. \nPoint of Contact on the day – TBC
URL:http://www.scottishmotorcycleclub.org.uk/event/morning-coffee-run-tuesday-29-09-26/
LOCATION:Dobbies Garden Centre Stirling\, Dip Road\, Stirling\, FK9 4UF
CATEGORIES:Social Events
ATTACH;FMTTYPE=image/jpeg:http://www.scottishmotorcycleclub.org.uk/wp-content/uploads/2024/03/bike-coffee-shop.jpeg
END:VEVENT
END:VCALENDAR